BEGIN:VCALENDAR
VERSION:2.0
PRODID:-//Zunzingen - ECPv6.15.20//NONSGML v1.0//EN
CALSCALE:GREGORIAN
METHOD:PUBLISH
X-WR-CALNAME:Zunzingen
X-ORIGINAL-URL:https://zunzingen.de
X-WR-CALDESC:Veranstaltungen für Zunzingen
REFRESH-INTERVAL;VALUE=DURATION:PT1H
X-Robots-Tag:noindex
X-PUBLISHED-TTL:PT1H
BEGIN:VTIMEZONE
TZID:Europe/Helsinki
BEGIN:DAYLIGHT
TZOFFSETFROM:+0200
TZOFFSETTO:+0300
TZNAME:EEST
DTSTART:20250330T010000
END:DAYLIGHT
BEGIN:STANDARD
TZOFFSETFROM:+0300
TZOFFSETTO:+0200
TZNAME:EET
DTSTART:20251026T010000
END:STANDARD
BEGIN:DAYLIGHT
TZOFFSETFROM:+0200
TZOFFSETTO:+0300
TZNAME:EEST
DTSTART:20260329T010000
END:DAYLIGHT
BEGIN:STANDARD
TZOFFSETFROM:+0300
TZOFFSETTO:+0200
TZNAME:EET
DTSTART:20261025T010000
END:STANDARD
BEGIN:DAYLIGHT
TZOFFSETFROM:+0200
TZOFFSETTO:+0300
TZNAME:EEST
DTSTART:20270328T010000
END:DAYLIGHT
BEGIN:STANDARD
TZOFFSETFROM:+0300
TZOFFSETTO:+0200
TZNAME:EET
DTSTART:20271031T010000
END:STANDARD
END:VTIMEZONE
BEGIN:VEVENT
DTSTART;VALUE=DATE:20260709
DTEND;VALUE=DATE:20260710
DTSTAMP:20260424T135148
CREATED:20260204T200711Z
LAST-MODIFIED:20260204T200711Z
UID:607-1783555200-1783641599@zunzingen.de
SUMMARY:Fussball-WM 1/4-Finale?
DESCRIPTION:
URL:https://zunzingen.de/event/fussball-wm-1-4-finale
LOCATION:Dorfhuus Zunzingen\, Talweg 3\, Zunzingen\, Baden-Württemberg\, 79379\, Deutschland
ORGANIZER;CN="Dorfverein Zunzingen e.V.":MAILTO:Dorfverein@zunzingen.de
END:VEVENT
BEGIN:VEVENT
DTSTART;VALUE=DATE:20260714
DTEND;VALUE=DATE:20260715
DTSTAMP:20260424T135148
CREATED:20260204T200753Z
LAST-MODIFIED:20260204T200753Z
UID:609-1783987200-1784073599@zunzingen.de
SUMMARY:Fussball-WM 1/2-Finale?
DESCRIPTION:
URL:https://zunzingen.de/event/fussball-wm-1-2-finale
LOCATION:Dorfhuus Zunzingen\, Talweg 3\, Zunzingen\, Baden-Württemberg\, 79379\, Deutschland
ORGANIZER;CN="Dorfverein Zunzingen e.V.":MAILTO:Dorfverein@zunzingen.de
END:VEVENT
BEGIN:VEVENT
DTSTART;VALUE=DATE:20260718
DTEND;VALUE=DATE:20260719
DTSTAMP:20260424T135148
CREATED:20260204T204542Z
LAST-MODIFIED:20260204T204542Z
UID:613-1784332800-1784419199@zunzingen.de
SUMMARY:Zunzinger Dorfhock
DESCRIPTION:
URL:https://zunzingen.de/event/zunzinger-dorfhock
LOCATION:Dorfhuus Zunzingen\, Talweg 3\, Zunzingen\, Baden-Württemberg\, 79379\, Deutschland
ORGANIZER;CN="Dorfverein Zunzingen e.V.":MAILTO:Dorfverein@zunzingen.de
END:VEVENT
BEGIN:VEVENT
DTSTART;TZID=Europe/Helsinki:20260719T200000
DTEND;TZID=Europe/Helsinki:20260719T233000
DTSTAMP:20260424T135148
CREATED:20260204T200927Z
LAST-MODIFIED:20260204T200927Z
UID:611-1784491200-1784503800@zunzingen.de
SUMMARY:Fussball-WM Finale
DESCRIPTION:
URL:https://zunzingen.de/event/fussball-wm-finale
LOCATION:Dorfhuus Zunzingen\, Talweg 3\, Zunzingen\, Baden-Württemberg\, 79379\, Deutschland
ORGANIZER;CN="Dorfverein Zunzingen e.V.":MAILTO:Dorfverein@zunzingen.de
END:VEVENT
END:VCALENDAR