BEGIN:VCALENDAR
VERSION:2.0
PRODID:-//Zunzingen - ECPv6.15.20//NONSGML v1.0//EN
CALSCALE:GREGORIAN
METHOD:PUBLISH
X-ORIGINAL-URL:https://zunzingen.de
X-WR-CALDESC:Veranstaltungen für Zunzingen
REFRESH-INTERVAL;VALUE=DURATION:PT1H
X-Robots-Tag:noindex
X-PUBLISHED-TTL:PT1H
BEGIN:VTIMEZONE
TZID:Europe/Helsinki
BEGIN:DAYLIGHT
TZOFFSETFROM:+0200
TZOFFSETTO:+0300
TZNAME:EEST
DTSTART:20250330T010000
END:DAYLIGHT
BEGIN:STANDARD
TZOFFSETFROM:+0300
TZOFFSETTO:+0200
TZNAME:EET
DTSTART:20251026T010000
END:STANDARD
BEGIN:DAYLIGHT
TZOFFSETFROM:+0200
TZOFFSETTO:+0300
TZNAME:EEST
DTSTART:20260329T010000
END:DAYLIGHT
BEGIN:STANDARD
TZOFFSETFROM:+0300
TZOFFSETTO:+0200
TZNAME:EET
DTSTART:20261025T010000
END:STANDARD
BEGIN:DAYLIGHT
TZOFFSETFROM:+0200
TZOFFSETTO:+0300
TZNAME:EEST
DTSTART:20270328T010000
END:DAYLIGHT
BEGIN:STANDARD
TZOFFSETFROM:+0300
TZOFFSETTO:+0200
TZNAME:EET
DTSTART:20271031T010000
END:STANDARD
END:VTIMEZONE
BEGIN:VEVENT
DTSTART;VALUE=DATE:20260613
DTEND;VALUE=DATE:20260614
DTSTAMP:20260420T095313
CREATED:20260204T195146Z
LAST-MODIFIED:20260204T195146Z
UID:596-1781308800-1781395199@zunzingen.de
SUMMARY:Jahreskonzert Männergesangverein Zunzingen
DESCRIPTION:
URL:https://zunzingen.de/event/jahreskonzert-maennergesangverein-zunzingen-2
LOCATION:Baden-Württemberg
END:VEVENT
BEGIN:VEVENT
DTSTART;TZID=Europe/Helsinki:20260614T180000
DTEND;TZID=Europe/Helsinki:20260614T220000
DTSTAMP:20260420T095313
CREATED:20260204T195651Z
LAST-MODIFIED:20260204T195651Z
UID:600-1781460000-1781474400@zunzingen.de
SUMMARY:Fussball-WM Deutschland : Curacao
DESCRIPTION:
URL:https://zunzingen.de/event/fussball-wm-deutschland-curacao
LOCATION:Dorfhuus Zunzingen\, Talweg 3\, Zunzingen\, Baden-Württemberg\, 79379\, Deutschland
ORGANIZER;CN="Dorfverein Zunzingen e.V.":MAILTO:Dorfverein@zunzingen.de
END:VEVENT
BEGIN:VEVENT
DTSTART;TZID=Europe/Helsinki:20260620T210000
DTEND;TZID=Europe/Helsinki:20260620T233000
DTSTAMP:20260420T095313
CREATED:20260204T195704Z
LAST-MODIFIED:20260204T195704Z
UID:598-1781989200-1781998200@zunzingen.de
SUMMARY:Fussball-WM Deutschland : Elfenbeinküste
DESCRIPTION:
URL:https://zunzingen.de/event/fussball-wm-deutschland-elfenbeinkueste
LOCATION:Dorfhuus Zunzingen\, Talweg 3\, Zunzingen\, Baden-Württemberg\, 79379\, Deutschland
ORGANIZER;CN="Dorfverein Zunzingen e.V.":MAILTO:Dorfverein@zunzingen.de
END:VEVENT
BEGIN:VEVENT
DTSTART;TZID=Europe/Helsinki:20260625T210000
DTEND;TZID=Europe/Helsinki:20260625T233000
DTSTAMP:20260420T095313
CREATED:20260204T195805Z
LAST-MODIFIED:20260204T195805Z
UID:602-1782421200-1782430200@zunzingen.de
SUMMARY:Fussball-WM Deutschland : Ecuador
DESCRIPTION:
URL:https://zunzingen.de/event/fussball-wm-deutschland-ecuador
LOCATION:Dorfhuus Zunzingen\, Talweg 3\, Zunzingen\, Baden-Württemberg\, 79379\, Deutschland
ORGANIZER;CN="Dorfverein Zunzingen e.V.":MAILTO:Dorfverein@zunzingen.de
END:VEVENT
END:VCALENDAR