BEGIN:VCALENDAR
VERSION:2.0
PRODID:-//Zunzingen - ECPv6.15.20//NONSGML v1.0//EN
CALSCALE:GREGORIAN
METHOD:PUBLISH
X-WR-CALNAME:Zunzingen
X-ORIGINAL-URL:https://zunzingen.de
X-WR-CALDESC:Veranstaltungen für Zunzingen
REFRESH-INTERVAL;VALUE=DURATION:PT1H
X-Robots-Tag:noindex
X-PUBLISHED-TTL:PT1H
BEGIN:VTIMEZONE
TZID:Europe/Helsinki
BEGIN:DAYLIGHT
TZOFFSETFROM:+0200
TZOFFSETTO:+0300
TZNAME:EEST
DTSTART:20250330T010000
END:DAYLIGHT
BEGIN:STANDARD
TZOFFSETFROM:+0300
TZOFFSETTO:+0200
TZNAME:EET
DTSTART:20251026T010000
END:STANDARD
BEGIN:DAYLIGHT
TZOFFSETFROM:+0200
TZOFFSETTO:+0300
TZNAME:EEST
DTSTART:20260329T010000
END:DAYLIGHT
BEGIN:STANDARD
TZOFFSETFROM:+0300
TZOFFSETTO:+0200
TZNAME:EET
DTSTART:20261025T010000
END:STANDARD
BEGIN:DAYLIGHT
TZOFFSETFROM:+0200
TZOFFSETTO:+0300
TZNAME:EEST
DTSTART:20270328T010000
END:DAYLIGHT
BEGIN:STANDARD
TZOFFSETFROM:+0300
TZOFFSETTO:+0200
TZNAME:EET
DTSTART:20271031T010000
END:STANDARD
END:VTIMEZONE
BEGIN:VEVENT
DTSTART;VALUE=DATE:20260514
DTEND;VALUE=DATE:20260515
DTSTAMP:20260420T081744
CREATED:20260122T190413Z
LAST-MODIFIED:20260122T190413Z
UID:574-1778716800-1778803199@zunzingen.de
SUMMARY:Hisgier & Uferbrut
DESCRIPTION:
URL:https://zunzingen.de/event/hisgier-uferbrut-2
LOCATION:Zunzingen\, Rosenbergstr.\, Zunzingen\, 79379\, Deutschland
END:VEVENT
BEGIN:VEVENT
DTSTART;TZID=Europe/Helsinki:20260515T180000
DTEND;TZID=Europe/Helsinki:20260515T233000
DTSTAMP:20260420T081744
CREATED:20260204T205417Z
LAST-MODIFIED:20260204T205417Z
UID:589-1778868000-1778887800@zunzingen.de
SUMMARY:Einweihung Rebhiesle
DESCRIPTION:
URL:https://zunzingen.de/event/einweihung-rebhiesle
LOCATION:Rebhiesle am Rosenberg\, https://maps.app.goo.gl/sjVhAUgcMba3Sws77
ORGANIZER;CN="Dorfverein Zunzingen e.V.":MAILTO:Dorfverein@zunzingen.de
END:VEVENT
BEGIN:VEVENT
DTSTART;TZID=Europe/Helsinki:20260521T170000
DTEND;TZID=Europe/Helsinki:20260521T190000
DTSTAMP:20260420T081744
CREATED:20260122T190848Z
LAST-MODIFIED:20260122T190848Z
UID:576-1779382800-1779390000@zunzingen.de
SUMMARY:Pfingst-Kränzeln für die Dorfbrunnen
DESCRIPTION:Am besten Gartenhandschuhe und eine Gartenschere mitbringen
URL:https://zunzingen.de/event/pfingst-kraenzeln-fuer-die-dorfbrunnen-2
LOCATION:Dorfhuus Zunzingen\, Talweg 3\, Zunzingen\, Baden-Württemberg\, 79379\, Deutschland
ORGANIZER;CN="Dorfverein Zunzingen e.V.":MAILTO:Dorfverein@zunzingen.de
END:VEVENT
END:VCALENDAR