BEGIN:VCALENDAR
VERSION:2.0
PRODID:-//Zunzingen - ECPv6.15.20//NONSGML v1.0//EN
CALSCALE:GREGORIAN
METHOD:PUBLISH
X-WR-CALNAME:Zunzingen
X-ORIGINAL-URL:https://zunzingen.de
X-WR-CALDESC:Veranstaltungen für Zunzingen
REFRESH-INTERVAL;VALUE=DURATION:PT1H
X-Robots-Tag:noindex
X-PUBLISHED-TTL:PT1H
BEGIN:VTIMEZONE
TZID:Europe/Helsinki
BEGIN:DAYLIGHT
TZOFFSETFROM:+0200
TZOFFSETTO:+0300
TZNAME:EEST
DTSTART:20250330T010000
END:DAYLIGHT
BEGIN:STANDARD
TZOFFSETFROM:+0300
TZOFFSETTO:+0200
TZNAME:EET
DTSTART:20251026T010000
END:STANDARD
BEGIN:DAYLIGHT
TZOFFSETFROM:+0200
TZOFFSETTO:+0300
TZNAME:EEST
DTSTART:20260329T010000
END:DAYLIGHT
BEGIN:STANDARD
TZOFFSETFROM:+0300
TZOFFSETTO:+0200
TZNAME:EET
DTSTART:20261025T010000
END:STANDARD
BEGIN:DAYLIGHT
TZOFFSETFROM:+0200
TZOFFSETTO:+0300
TZNAME:EEST
DTSTART:20270328T010000
END:DAYLIGHT
BEGIN:STANDARD
TZOFFSETFROM:+0300
TZOFFSETTO:+0200
TZNAME:EET
DTSTART:20271031T010000
END:STANDARD
END:VTIMEZONE
BEGIN:VEVENT
DTSTART;VALUE=DATE:20260204
DTEND;VALUE=DATE:20260205
DTSTAMP:20260420T095211
CREATED:20260204T200615Z
LAST-MODIFIED:20260204T200615Z
UID:605-1770163200-1770249599@zunzingen.de
SUMMARY:Fussball-WM 1/16-Finale?
DESCRIPTION:
URL:https://zunzingen.de/event/fussball-wm-1-16-finale
LOCATION:Baden-Württemberg
END:VEVENT
BEGIN:VEVENT
DTSTART;TZID=Europe/Helsinki:20260221T090000
DTEND;TZID=Europe/Helsinki:20260221T120000
DTSTAMP:20260420T095211
CREATED:20260122T185513Z
LAST-MODIFIED:20260209T185226Z
UID:570-1771664400-1771675200@zunzingen.de
SUMMARY:Schiebefiir - Aufbau
DESCRIPTION:Link zur Helferliste: Zunzinger Schiebefiir ’26 – Melly Online Liste
URL:https://zunzingen.de/event/schiebefiir-aufbau
LOCATION:Rosenberg Zunzingen\, Auf dem Rosenberg\, Müllheim\, Baden-Wurttemberg\, 79379\, Deutschland
ORGANIZER;CN="Dorfverein Zunzingen e.V.":MAILTO:Dorfverein@zunzingen.de
END:VEVENT
BEGIN:VEVENT
DTSTART;TZID=Europe/Helsinki:20260221T103000
DTEND;TZID=Europe/Helsinki:20260221T120000
DTSTAMP:20260420T095211
CREATED:20260122T184937Z
LAST-MODIFIED:20260122T184937Z
UID:566-1771669800-1771675200@zunzingen.de
SUMMARY:Offene Yogastunde
DESCRIPTION:
URL:https://zunzingen.de/event/offene-yogastunde-2
LOCATION:Dorfhuus Zunzingen\, Talweg 3\, Zunzingen\, Baden-Württemberg\, 79379\, Deutschland
ORGANIZER;CN="Dorfverein Zunzingen e.V.":MAILTO:Dorfverein@zunzingen.de
END:VEVENT
BEGIN:VEVENT
DTSTART;TZID=Europe/Helsinki:20260221T180000
DTEND;TZID=Europe/Helsinki:20260221T233000
DTSTAMP:20260420T095211
CREATED:20260122T190330Z
LAST-MODIFIED:20260205T201754Z
UID:572-1771696800-1771716600@zunzingen.de
SUMMARY:Schiebefiir - Schiebeschlah
DESCRIPTION:Link zur Helferliste: Zunzinger Schiibefier ’26 – Melly Online Liste \n 
URL:https://zunzingen.de/event/schiebefiir-schiebeschlah
LOCATION:Rosenberg Zunzingen\, Auf dem Rosenberg\, Müllheim\, Baden-Wurttemberg\, 79379\, Deutschland
ORGANIZER;CN="Dorfverein Zunzingen e.V.":MAILTO:Dorfverein@zunzingen.de
END:VEVENT
END:VCALENDAR