BEGIN:VCALENDAR
VERSION:2.0
PRODID:-//Zunzingen - ECPv6.15.20//NONSGML v1.0//EN
CALSCALE:GREGORIAN
METHOD:PUBLISH
X-ORIGINAL-URL:https://zunzingen.de
X-WR-CALDESC:Veranstaltungen für Zunzingen
REFRESH-INTERVAL;VALUE=DURATION:PT1H
X-Robots-Tag:noindex
X-PUBLISHED-TTL:PT1H
BEGIN:VTIMEZONE
TZID:Europe/Helsinki
BEGIN:DAYLIGHT
TZOFFSETFROM:+0200
TZOFFSETTO:+0300
TZNAME:EEST
DTSTART:20230326T010000
END:DAYLIGHT
BEGIN:STANDARD
TZOFFSETFROM:+0300
TZOFFSETTO:+0200
TZNAME:EET
DTSTART:20231029T010000
END:STANDARD
BEGIN:DAYLIGHT
TZOFFSETFROM:+0200
TZOFFSETTO:+0300
TZNAME:EEST
DTSTART:20240331T010000
END:DAYLIGHT
BEGIN:STANDARD
TZOFFSETFROM:+0300
TZOFFSETTO:+0200
TZNAME:EET
DTSTART:20241027T010000
END:STANDARD
BEGIN:DAYLIGHT
TZOFFSETFROM:+0200
TZOFFSETTO:+0300
TZNAME:EEST
DTSTART:20250330T010000
END:DAYLIGHT
BEGIN:STANDARD
TZOFFSETFROM:+0300
TZOFFSETTO:+0200
TZNAME:EET
DTSTART:20251026T010000
END:STANDARD
BEGIN:DAYLIGHT
TZOFFSETFROM:+0200
TZOFFSETTO:+0300
TZNAME:EEST
DTSTART:20260329T010000
END:DAYLIGHT
BEGIN:STANDARD
TZOFFSETFROM:+0300
TZOFFSETTO:+0200
TZNAME:EET
DTSTART:20261025T010000
END:STANDARD
BEGIN:DAYLIGHT
TZOFFSETFROM:+0200
TZOFFSETTO:+0300
TZNAME:EEST
DTSTART:20270328T010000
END:DAYLIGHT
BEGIN:STANDARD
TZOFFSETFROM:+0300
TZOFFSETTO:+0200
TZNAME:EET
DTSTART:20271031T010000
END:STANDARD
END:VTIMEZONE
BEGIN:VEVENT
DTSTART;TZID=Europe/Helsinki:20260418T100000
DTEND;TZID=Europe/Helsinki:20260418T150000
DTSTAMP:20260420T064519
CREATED:20260208T195756Z
LAST-MODIFIED:20260302T210744Z
UID:628-1776506400-1776524400@zunzingen.de
SUMMARY:[HELFEN] Fertigstellung Rebhiesle 2v3
DESCRIPTION:
URL:https://zunzingen.de/event/helfen-fertigstellung-rebhiesle-2v3
LOCATION:Rebhiesle am Rosenberg\, https://maps.app.goo.gl/sjVhAUgcMba3Sws77
ORGANIZER;CN="Dorfverein Zunzingen e.V.":MAILTO:Dorfverein@zunzingen.de
END:VEVENT
BEGIN:VEVENT
DTSTART;TZID=Europe/Helsinki:20260411T100000
DTEND;TZID=Europe/Helsinki:20260411T150000
DTSTAMP:20260420T064519
CREATED:20260208T195731Z
LAST-MODIFIED:20260302T210709Z
UID:626-1775901600-1775919600@zunzingen.de
SUMMARY:[HELFEN] Fertigstellung Rebhiesle 1v3
DESCRIPTION:
URL:https://zunzingen.de/event/helfen-fertigstellung-rebhiesle-1v3
LOCATION:Rebhiesle am Rosenberg\, https://maps.app.goo.gl/sjVhAUgcMba3Sws77
ORGANIZER;CN="Dorfverein Zunzingen e.V.":MAILTO:Dorfverein@zunzingen.de
END:VEVENT
BEGIN:VEVENT
DTSTART;VALUE=DATE:20260411
DTEND;VALUE=DATE:20260412
DTSTAMP:20260420T064519
CREATED:20260205T201425Z
LAST-MODIFIED:20260205T201425Z
UID:592-1775865600-1775951999@zunzingen.de
SUMMARY:Flammlachs grillen
DESCRIPTION:
URL:https://zunzingen.de/event/flammlachs-grillen
LOCATION:Dorfhuus Zunzingen\, Talweg 3\, Zunzingen\, Baden-Württemberg\, 79379\, Deutschland
ORGANIZER;CN="Dorfverein Zunzingen e.V.":MAILTO:Dorfverein@zunzingen.de
END:VEVENT
BEGIN:VEVENT
DTSTART;VALUE=DATE:20260322
DTEND;VALUE=DATE:20260323
DTSTAMP:20260420T064519
CREATED:20260205T201605Z
LAST-MODIFIED:20260205T201605Z
UID:590-1774137600-1774223999@zunzingen.de
SUMMARY:Ausflug Brauerei Feldschlösschen
DESCRIPTION:
URL:https://zunzingen.de/event/ausflug-brauerei-feldschloesschen
LOCATION:Baden-Württemberg
ORGANIZER;CN="Dorfverein Zunzingen e.V.":MAILTO:Dorfverein@zunzingen.de
END:VEVENT
BEGIN:VEVENT
DTSTART;TZID=Europe/Helsinki:20260315T103000
DTEND;TZID=Europe/Helsinki:20260315T120000
DTSTAMP:20260420T064519
CREATED:20260122T185012Z
LAST-MODIFIED:20260122T185012Z
UID:568-1773570600-1773576000@zunzingen.de
SUMMARY:Offene Yogastunde
DESCRIPTION:
URL:https://zunzingen.de/event/offene-yogastunde-3
LOCATION:Dorfhuus Zunzingen\, Talweg 3\, Zunzingen\, Baden-Württemberg\, 79379\, Deutschland
ORGANIZER;CN="Dorfverein Zunzingen e.V.":MAILTO:Dorfverein@zunzingen.de
END:VEVENT
BEGIN:VEVENT
DTSTART;TZID=Europe/Helsinki:20260221T180000
DTEND;TZID=Europe/Helsinki:20260221T233000
DTSTAMP:20260420T064519
CREATED:20260122T190330Z
LAST-MODIFIED:20260205T201754Z
UID:572-1771696800-1771716600@zunzingen.de
SUMMARY:Schiebefiir - Schiebeschlah
DESCRIPTION:Link zur Helferliste: Zunzinger Schiibefier ’26 – Melly Online Liste \n 
URL:https://zunzingen.de/event/schiebefiir-schiebeschlah
LOCATION:Rosenberg Zunzingen\, Auf dem Rosenberg\, Müllheim\, Baden-Wurttemberg\, 79379\, Deutschland
ORGANIZER;CN="Dorfverein Zunzingen e.V.":MAILTO:Dorfverein@zunzingen.de
END:VEVENT
BEGIN:VEVENT
DTSTART;TZID=Europe/Helsinki:20260221T103000
DTEND;TZID=Europe/Helsinki:20260221T120000
DTSTAMP:20260420T064519
CREATED:20260122T184937Z
LAST-MODIFIED:20260122T184937Z
UID:566-1771669800-1771675200@zunzingen.de
SUMMARY:Offene Yogastunde
DESCRIPTION:
URL:https://zunzingen.de/event/offene-yogastunde-2
LOCATION:Dorfhuus Zunzingen\, Talweg 3\, Zunzingen\, Baden-Württemberg\, 79379\, Deutschland
ORGANIZER;CN="Dorfverein Zunzingen e.V.":MAILTO:Dorfverein@zunzingen.de
END:VEVENT
BEGIN:VEVENT
DTSTART;TZID=Europe/Helsinki:20260221T090000
DTEND;TZID=Europe/Helsinki:20260221T120000
DTSTAMP:20260420T064519
CREATED:20260122T185513Z
LAST-MODIFIED:20260209T185226Z
UID:570-1771664400-1771675200@zunzingen.de
SUMMARY:Schiebefiir - Aufbau
DESCRIPTION:Link zur Helferliste: Zunzinger Schiebefiir ’26 – Melly Online Liste
URL:https://zunzingen.de/event/schiebefiir-aufbau
LOCATION:Rosenberg Zunzingen\, Auf dem Rosenberg\, Müllheim\, Baden-Wurttemberg\, 79379\, Deutschland
ORGANIZER;CN="Dorfverein Zunzingen e.V.":MAILTO:Dorfverein@zunzingen.de
END:VEVENT
BEGIN:VEVENT
DTSTART;VALUE=DATE:20260204
DTEND;VALUE=DATE:20260205
DTSTAMP:20260420T064519
CREATED:20260204T200615Z
LAST-MODIFIED:20260204T200615Z
UID:605-1770163200-1770249599@zunzingen.de
SUMMARY:Fussball-WM 1/16-Finale?
DESCRIPTION:
URL:https://zunzingen.de/event/fussball-wm-1-16-finale
LOCATION:Baden-Württemberg
END:VEVENT
BEGIN:VEVENT
DTSTART;TZID=Europe/Helsinki:20260131T103000
DTEND;TZID=Europe/Helsinki:20260131T120000
DTSTAMP:20260420T064519
CREATED:20260122T184607Z
LAST-MODIFIED:20260122T184608Z
UID:561-1769855400-1769860800@zunzingen.de
SUMMARY:Offene Yogastunde
DESCRIPTION:
URL:https://zunzingen.de/event/offene-yogastunde
LOCATION:Dorfhuus Zunzingen\, Talweg 3\, Zunzingen\, Baden-Württemberg\, 79379\, Deutschland
ORGANIZER;CN="Dorfverein Zunzingen e.V.":MAILTO:Dorfverein@zunzingen.de
END:VEVENT
BEGIN:VEVENT
DTSTART;TZID=Europe/Helsinki:20260123T190000
DTEND;TZID=Europe/Helsinki:20260123T230000
DTSTAMP:20260420T064519
CREATED:20250119T121922Z
LAST-MODIFIED:20260122T174240Z
UID:501-1769194800-1769209200@zunzingen.de
SUMMARY:Mitgliederversammlung DVZ
DESCRIPTION:Einladung / Agenda
URL:https://zunzingen.de/event/mitgliederversammlung-dvz
LOCATION:Dorfhuus Zunzingen\, Talweg 3\, Zunzingen\, Baden-Württemberg\, 79379\, Deutschland
ORGANIZER;CN="Dorfverein Zunzingen e.V.":MAILTO:Dorfverein@zunzingen.de
END:VEVENT
BEGIN:VEVENT
DTSTART;TZID=Europe/Helsinki:20251213T160000
DTEND;TZID=Europe/Helsinki:20251213T190000
DTSTAMP:20260420T064519
CREATED:20240312T203712Z
LAST-MODIFIED:20250119T115632Z
UID:411-1765641600-1765652400@zunzingen.de
SUMMARY:ZUNZINGER WEIHNACHT
DESCRIPTION:
URL:https://zunzingen.de/event/zunzinger-weihnacht
LOCATION:Dorfhuus Zunzingen\, Talweg 3\, Zunzingen\, Baden-Württemberg\, 79379\, Deutschland
ORGANIZER;CN="Dorfverein Zunzingen e.V.":MAILTO:Dorfverein@zunzingen.de
END:VEVENT
BEGIN:VEVENT
DTSTART;VALUE=DATE:20251115
DTEND;VALUE=DATE:20251116
DTSTAMP:20260420T064519
CREATED:20250602T180451Z
LAST-MODIFIED:20250602T180451Z
UID:544-1763164800-1763251199@zunzingen.de
SUMMARY:Zunzingen goes Wild
DESCRIPTION:
URL:https://zunzingen.de/event/zunzingen-goes-wild
LOCATION:Dorfhuus Zunzingen\, Talweg 3\, Zunzingen\, Baden-Württemberg\, 79379\, Deutschland
END:VEVENT
BEGIN:VEVENT
DTSTART;TZID=Europe/Helsinki:20251011T150000
DTEND;TZID=Europe/Helsinki:20251011T233000
DTSTAMP:20260420T064519
CREATED:20240312T203610Z
LAST-MODIFIED:20250119T115801Z
UID:409-1760194800-1760225400@zunzingen.de
SUMMARY:Bosseln & Waie
DESCRIPTION:15:00 Uhr Treffpunkt im Zehntgarten zum Bosseln \nab 18:00 Uhr im Dorfhuus
URL:https://zunzingen.de/event/bosseln-waie
LOCATION:Baden-Württemberg
END:VEVENT
BEGIN:VEVENT
DTSTART;VALUE=DATE:20251003
DTEND;VALUE=DATE:20251004
DTSTAMP:20260420T064519
CREATED:20250119T121757Z
LAST-MODIFIED:20250119T121757Z
UID:497-1759449600-1759535999@zunzingen.de
SUMMARY:Weinwandertag Britzingen
DESCRIPTION:
URL:https://zunzingen.de/event/weinwandertag-britzingen
LOCATION:Baden-Württemberg
END:VEVENT
BEGIN:VEVENT
DTSTART;VALUE=DATE:20250927
DTEND;VALUE=DATE:20250928
DTSTAMP:20260420T064519
CREATED:20250217T174848Z
LAST-MODIFIED:20250217T174848Z
UID:509-1758931200-1759017599@zunzingen.de
SUMMARY:Bilder-Vortrag Jakobsweg
DESCRIPTION:
URL:https://zunzingen.de/event/bilder-vortrag-jakobsweg
LOCATION:Dorfhuus Zunzingen\, Talweg 3\, Zunzingen\, Baden-Württemberg\, 79379\, Deutschland
ORGANIZER;CN="Dorfverein Zunzingen e.V.":MAILTO:Dorfverein@zunzingen.de
END:VEVENT
BEGIN:VEVENT
DTSTART;TZID=Europe/Helsinki:20250719T210000
DTEND;TZID=Europe/Helsinki:20250719T235900
DTSTAMP:20260420T064519
CREATED:20250119T120128Z
LAST-MODIFIED:20250702T204045Z
UID:489-1752958800-1752969540@zunzingen.de
SUMMARY:1. Zunzinger Open-Air Kino
DESCRIPTION:
URL:https://zunzingen.de/event/open-air-kino
LOCATION:Dorfhuus Zunzingen\, Talweg 3\, Zunzingen\, Baden-Württemberg\, 79379\, Deutschland
ORGANIZER;CN="Dorfverein Zunzingen e.V.":MAILTO:Dorfverein@zunzingen.de
END:VEVENT
BEGIN:VEVENT
DTSTART;TZID=Europe/Helsinki:20250706T100000
DTEND;TZID=Europe/Helsinki:20250706T180000
DTSTAMP:20260420T064519
CREATED:20240312T202827Z
LAST-MODIFIED:20250602T192632Z
UID:401-1751796000-1751824800@zunzingen.de
SUMMARY:Dorf-Frühstück
DESCRIPTION:
URL:https://zunzingen.de/event/zunzinger-fescht
LOCATION:Baden-Württemberg
ORGANIZER;CN="Dorfverein Zunzingen e.V.":MAILTO:Dorfverein@zunzingen.de
END:VEVENT
BEGIN:VEVENT
DTSTART;TZID=Europe/Helsinki:20250627T170000
DTEND;TZID=Europe/Helsinki:20250629T233000
DTSTAMP:20260420T064519
CREATED:20240312T202727Z
LAST-MODIFIED:20250119T120247Z
UID:399-1751043600-1751239800@zunzingen.de
SUMMARY:Stadtfest Müllheim
DESCRIPTION:
URL:https://zunzingen.de/event/stadtfest-muellheim
LOCATION:Baden-Württemberg
END:VEVENT
BEGIN:VEVENT
DTSTART;TZID=Europe/Helsinki:20250605T170000
DTEND;TZID=Europe/Helsinki:20250605T190000
DTSTAMP:20260420T064519
CREATED:20240312T201650Z
LAST-MODIFIED:20250119T120815Z
UID:387-1749142800-1749150000@zunzingen.de
SUMMARY:Pfingst-Kränzeln für die Dorfbrunnen
DESCRIPTION:am besten Gartenhandschuhe und eine Gartenschere mitbringen
URL:https://zunzingen.de/event/pfingst-kraenzeln-fuer-die-dorfbrunnen
LOCATION:Dorfhuus Zunzingen\, Talweg 3\, Zunzingen\, Baden-Württemberg\, 79379\, Deutschland
ORGANIZER;CN="Dorfverein Zunzingen e.V.":MAILTO:Dorfverein@zunzingen.de
END:VEVENT
BEGIN:VEVENT
DTSTART;TZID=Europe/Helsinki:20250529T100000
DTEND;TZID=Europe/Helsinki:20250529T180000
DTSTAMP:20260420T064519
CREATED:20230112T185401Z
LAST-MODIFIED:20250423T173954Z
UID:163-1748512800-1748541600@zunzingen.de
SUMMARY:Gutedeltag
DESCRIPTION:Aufbau: Mi 18:00Uhr Treffpunkt Dorfhuus \nGutedeltag: Link zur Helferliste / Schichtplanung: https://melly.de/plan/449NF2NHRH54 \n  \n  \n  \n 
URL:https://zunzingen.de/event/gutedeltag
LOCATION:Zunzingen\, Rosenbergstr.\, Zunzingen\, 79379\, Deutschland
ORGANIZER;CN="Dorfverein Zunzingen e.V.":MAILTO:Dorfverein@zunzingen.de
END:VEVENT
BEGIN:VEVENT
DTSTART;TZID=Europe/Helsinki:20250529T090000
DTEND;TZID=Europe/Helsinki:20250529T123000
DTSTAMP:20260420T064519
CREATED:20240312T201512Z
LAST-MODIFIED:20250119T120902Z
UID:385-1748509200-1748521800@zunzingen.de
SUMMARY:Hisgier & Uferbrut
DESCRIPTION:
URL:https://zunzingen.de/event/hisgier-uferbrut
LOCATION:Zunzingen\, Rosenbergstr.\, Zunzingen\, 79379\, Deutschland
END:VEVENT
BEGIN:VEVENT
DTSTART;TZID=Europe/Helsinki:20250503T190000
DTEND;TZID=Europe/Helsinki:20250503T235900
DTSTAMP:20260420T064519
CREATED:20240312T202547Z
LAST-MODIFIED:20250218T211155Z
UID:397-1746298800-1746316740@zunzingen.de
SUMMARY:Jahreskonzert Männergesangverein Zunzingen
DESCRIPTION:
URL:https://zunzingen.de/event/jahreskonzert-maennergesangverein-zunzingen
LOCATION:Dorfhuus Zunzingen\, Talweg 3\, Zunzingen\, Baden-Württemberg\, 79379\, Deutschland
END:VEVENT
BEGIN:VEVENT
DTSTART;TZID=Europe/Helsinki:20250405T160000
DTEND;TZID=Europe/Helsinki:20250405T190000
DTSTAMP:20260420T064519
CREATED:20240312T201402Z
LAST-MODIFIED:20250119T120943Z
UID:383-1743868800-1743879600@zunzingen.de
SUMMARY:Dorfputzede
DESCRIPTION:Treffpunkt zum Aufteilen der Gruppen am Feuerwehrhaus
URL:https://zunzingen.de/event/dorfputzede-2
LOCATION:Baden-Württemberg
END:VEVENT
BEGIN:VEVENT
DTSTART;TZID=Europe/Helsinki:20250308T170000
DTEND;TZID=Europe/Helsinki:20250308T235900
DTSTAMP:20260420T064519
CREATED:20240129T204327Z
LAST-MODIFIED:20250119T115405Z
UID:360-1741453200-1741478340@zunzingen.de
SUMMARY:s’Zunzinger Schiebefiier 2025 - Scheibenschlagen
DESCRIPTION:
URL:https://zunzingen.de/event/szunzinger-schiebefiier-2025-scheibenschlagen
LOCATION:Rosenberg Zunzingen\, Auf dem Rosenberg\, Müllheim\, Baden-Wurttemberg\, 79379\, Deutschland
ORGANIZER;CN="Dorfverein Zunzingen e.V.":MAILTO:Dorfverein@zunzingen.de
END:VEVENT
BEGIN:VEVENT
DTSTART;TZID=Europe/Helsinki:20250308T090000
DTEND;TZID=Europe/Helsinki:20250308T120000
DTSTAMP:20260420T064519
CREATED:20250308T070040Z
LAST-MODIFIED:20250119T115531Z
UID:358-1741424400-1741435200@zunzingen.de
SUMMARY:s’Zunzinger Schiibefier 2025 - Aufbau
DESCRIPTION:
URL:https://zunzingen.de/event/szunzinger-schiibefier-2025-aufbau
LOCATION:Rosenberg Zunzingen\, Auf dem Rosenberg\, Müllheim\, Baden-Wurttemberg\, 79379\, Deutschland
ORGANIZER;CN="Dorfverein Zunzingen e.V.":MAILTO:Dorfverein@zunzingen.de
END:VEVENT
BEGIN:VEVENT
DTSTART;TZID=Europe/Helsinki:20250217T190000
DTEND;TZID=Europe/Helsinki:20250217T220000
DTSTAMP:20260420T064519
CREATED:20230116T201508Z
LAST-MODIFIED:20250226T213342Z
UID:196-1739818800-1739829600@zunzingen.de
SUMMARY:Generalversammlung Männergesangverein Zunzingen e.V.
DESCRIPTION:
URL:https://zunzingen.de/event/generalversammlung-maennergesangverein-zunzingen-e-v
LOCATION:Dorfhuus Zunzingen\, Talweg 3\, Zunzingen\, Baden-Württemberg\, 79379\, Deutschland
END:VEVENT
BEGIN:VEVENT
DTSTART;TZID=Europe/Helsinki:20250124T190000
DTEND;TZID=Europe/Helsinki:20250124T220000
DTSTAMP:20260420T064519
CREATED:20240312T203937Z
LAST-MODIFIED:20240312T203937Z
UID:414-1737745200-1737756000@zunzingen.de
SUMMARY:Mitgliederversammlung Dorfverein
DESCRIPTION:
URL:https://zunzingen.de/event/mitgliederversammlung-dorfverein
LOCATION:Dorfhuus Zunzingen\, Talweg 3\, Zunzingen\, Baden-Württemberg\, 79379\, Deutschland
ORGANIZER;CN="Dorfverein Zunzingen e.V.":MAILTO:Dorfverein@zunzingen.de
END:VEVENT
BEGIN:VEVENT
DTSTART;VALUE=DATE:20241013
DTEND;VALUE=DATE:20241014
DTSTAMP:20260420T064519
CREATED:20240312T203237Z
LAST-MODIFIED:20240913T075229Z
UID:407-1728777600-1728863999@zunzingen.de
SUMMARY:Erntedankgottesdienst
DESCRIPTION:
URL:https://zunzingen.de/event/erntedankgottesdienst
LOCATION:Dorfkirche Zunzingen\, Am Kirchbuck 8\, Müllheim-Zunzingen\, Deutschland
END:VEVENT
BEGIN:VEVENT
DTSTART;TZID=Europe/Helsinki:20240913T180000
DTEND;TZID=Europe/Helsinki:20240913T233000
DTSTAMP:20260420T064519
CREATED:20240312T203141Z
LAST-MODIFIED:20240913T075155Z
UID:405-1726250400-1726270200@zunzingen.de
SUMMARY:[ABGESAGT] Feierabendgrillen
DESCRIPTION:
URL:https://zunzingen.de/event/feierabendgrillen-2
LOCATION:Zunzingen\, Rosenbergstr.\, Zunzingen\, 79379\, Deutschland
ORGANIZER;CN="Dorfverein Zunzingen e.V.":MAILTO:Dorfverein@zunzingen.de
END:VEVENT
END:VCALENDAR