BEGIN:VCALENDAR
VERSION:2.0
PRODID:-//Zunzingen - ECPv6.15.20//NONSGML v1.0//EN
CALSCALE:GREGORIAN
METHOD:PUBLISH
X-WR-CALNAME:Zunzingen
X-ORIGINAL-URL:https://zunzingen.de
X-WR-CALDESC:Veranstaltungen für Zunzingen
REFRESH-INTERVAL;VALUE=DURATION:PT1H
X-Robots-Tag:noindex
X-PUBLISHED-TTL:PT1H
BEGIN:VTIMEZONE
TZID:Europe/Helsinki
BEGIN:DAYLIGHT
TZOFFSETFROM:+0200
TZOFFSETTO:+0300
TZNAME:EEST
DTSTART:20250330T010000
END:DAYLIGHT
BEGIN:STANDARD
TZOFFSETFROM:+0300
TZOFFSETTO:+0200
TZNAME:EET
DTSTART:20251026T010000
END:STANDARD
BEGIN:DAYLIGHT
TZOFFSETFROM:+0200
TZOFFSETTO:+0300
TZNAME:EEST
DTSTART:20260329T010000
END:DAYLIGHT
BEGIN:STANDARD
TZOFFSETFROM:+0300
TZOFFSETTO:+0200
TZNAME:EET
DTSTART:20261025T010000
END:STANDARD
BEGIN:DAYLIGHT
TZOFFSETFROM:+0200
TZOFFSETTO:+0300
TZNAME:EEST
DTSTART:20270328T010000
END:DAYLIGHT
BEGIN:STANDARD
TZOFFSETFROM:+0300
TZOFFSETTO:+0200
TZNAME:EET
DTSTART:20271031T010000
END:STANDARD
END:VTIMEZONE
BEGIN:VEVENT
DTSTART;TZID=Europe/Helsinki:20260315T103000
DTEND;TZID=Europe/Helsinki:20260315T120000
DTSTAMP:20260420T095213
CREATED:20260122T185012Z
LAST-MODIFIED:20260122T185012Z
UID:568-1773570600-1773576000@zunzingen.de
SUMMARY:Offene Yogastunde
DESCRIPTION:
URL:https://zunzingen.de/event/offene-yogastunde-3
LOCATION:Dorfhuus Zunzingen\, Talweg 3\, Zunzingen\, Baden-Württemberg\, 79379\, Deutschland
ORGANIZER;CN="Dorfverein Zunzingen e.V.":MAILTO:Dorfverein@zunzingen.de
END:VEVENT
END:VCALENDAR